BEGIN:VCALENDAR
VERSION:2.0
PRODID:spatie/icalendar-generator
DESCRIPTION:Events from Southern Boone County Area Chamber of Commerce
X-WR-CALDESC:Events from Southern Boone County Area Chamber of Commerce
REFRESH-INTERVAL;VALUE=DURATION:PT1440M
X-PUBLISHED-TTL:PT1440M
BEGIN:VTIMEZONE
TZID:America/Chicago
BEGIN:STANDARD
DTSTART:20251102T020000Z
TZOFFSETFROM:-0500
TZOFFSETTO:-0600
END:STANDARD
BEGIN:DAYLIGHT
DTSTART:20260308T020000Z
TZOFFSETFROM:-0600
TZOFFSETTO:-0500
END:DAYLIGHT
BEGIN:STANDARD
DTSTART:20261101T020000Z
TZOFFSETFROM:-0500
TZOFFSETTO:-0600
END:STANDARD
END:VTIMEZONE
BEGIN:VTIMEZONE
TZID:UTC
BEGIN:STANDARD
DTSTART:20250727T160049Z
TZOFFSETFROM:+0000
TZOFFSETTO:+0000
END:STANDARD
END:VTIMEZONE
BEGIN:VEVENT
UID:262-5
DTSTAMP:20260423T160049Z
SUMMARY:Chamber Monthly Board Meeting
LOCATION:Southern Boone School District Central Office 5275 West Redtail Dr
 ive  Ashland MO 65010
ORGANIZER;CN=Admin:MAILTO:jason@angellinsurance.com
RRULE:FREQ=MONTHLY;BYDAY=2TH;UNTIL=20341215T000000Z
DTSTART;TZID=America/Chicago:20260709T080000
DTEND;TZID=America/Chicago:20260709T090000
X-ALT-DESC;FMTTYPE=TEXT/HTML:
CATEGORIES:General
URL;VALUE=URI:https://southernboonechamber.com/mc-events/chamber-monthly-bo
 ard-meeting/?mc_id=262
METHOD:PUBLISH
END:VEVENT
END:VCALENDAR