BEGIN:VCALENDAR
VERSION:2.0
PRODID:spatie/icalendar-generator
DESCRIPTION:Events from Southern Boone County Area Chamber of Commerce
X-WR-CALDESC:Events from Southern Boone County Area Chamber of Commerce
REFRESH-INTERVAL;VALUE=DURATION:PT1440M
X-PUBLISHED-TTL:PT1440M
BEGIN:VTIMEZONE
TZID:America/Chicago
BEGIN:DAYLIGHT
DTSTART:20260308T020000Z
TZOFFSETFROM:-0600
TZOFFSETTO:-0500
END:DAYLIGHT
BEGIN:STANDARD
DTSTART:20261101T020000Z
TZOFFSETFROM:-0500
TZOFFSETTO:-0600
END:STANDARD
END:VTIMEZONE
BEGIN:VTIMEZONE
TZID:UTC
BEGIN:STANDARD
DTSTART:20250727T161631Z
TZOFFSETFROM:+0000
TZOFFSETTO:+0000
END:STANDARD
END:VTIMEZONE
BEGIN:VEVENT
UID:23-3
DTSTAMP:20260423T161631Z
SUMMARY:Ashland Betterment Coalition Monthly Meeting
LOCATION:City Hall 101 W. Broadway  Ashland MO 65010
ORGANIZER;CN=Admin:MAILTO:jason@angellinsurance.com
RRULE:FREQ=MONTHLY;BYDAY=1MO;UNTIL=20341205T000000Z
DTSTART;TZID=America/Chicago:20260907T190000
DTEND;TZID=America/Chicago:20260907T200000
X-ALT-DESC;FMTTYPE=TEXT/HTML:
CATEGORIES:General
URL;VALUE=URI:https://southernboonechamber.com/mc-events/ashland-betterment
 -coalition-monthly-meeting/?mc_id=23
METHOD:PUBLISH
END:VEVENT
END:VCALENDAR